BEGIN:VCALENDAR
VERSION:2.0
PRODID:-//Wommels.nl - ECPv6.15.20//NONSGML v1.0//EN
CALSCALE:GREGORIAN
METHOD:PUBLISH
X-WR-CALNAME:Wommels.nl
X-ORIGINAL-URL:https://wommels.nl
X-WR-CALDESC:Evenementen voor Wommels.nl
REFRESH-INTERVAL;VALUE=DURATION:PT1H
X-Robots-Tag:noindex
X-PUBLISHED-TTL:PT1H
BEGIN:VTIMEZONE
TZID:Europe/Amsterdam
BEGIN:DAYLIGHT
TZOFFSETFROM:+0100
TZOFFSETTO:+0200
TZNAME:CEST
DTSTART:20250330T010000
END:DAYLIGHT
BEGIN:STANDARD
TZOFFSETFROM:+0200
TZOFFSETTO:+0100
TZNAME:CET
DTSTART:20251026T010000
END:STANDARD
BEGIN:DAYLIGHT
TZOFFSETFROM:+0100
TZOFFSETTO:+0200
TZNAME:CEST
DTSTART:20260329T010000
END:DAYLIGHT
BEGIN:STANDARD
TZOFFSETFROM:+0200
TZOFFSETTO:+0100
TZNAME:CET
DTSTART:20261025T010000
END:STANDARD
BEGIN:DAYLIGHT
TZOFFSETFROM:+0100
TZOFFSETTO:+0200
TZNAME:CEST
DTSTART:20270328T010000
END:DAYLIGHT
BEGIN:STANDARD
TZOFFSETFROM:+0200
TZOFFSETTO:+0100
TZNAME:CET
DTSTART:20271031T010000
END:STANDARD
END:VTIMEZONE
BEGIN:VEVENT
DTSTART;TZID=Europe/Amsterdam:20260423T000000
DTEND;TZID=Europe/Amsterdam:20260423T235900
DTSTAMP:20260423T173000
CREATED:20260222T011630Z
LAST-MODIFIED:20260222T011630Z
UID:9678-1776902400-1776988740@wommels.nl
SUMMARY:Papier en karton
DESCRIPTION:Papier en karton
URL:https://wommels.nl/activiteit/papier-en-karton-20260423-0000/
CATEGORIES:Afvalkalender
END:VEVENT
BEGIN:VEVENT
DTSTART;TZID=Europe/Amsterdam:20260424T190000
DTEND;TZID=Europe/Amsterdam:20260424T233000
DTSTAMP:20260423T173000
CREATED:20260419T144629Z
LAST-MODIFIED:20260419T144629Z
UID:10590-1777057200-1777073400@wommels.nl
SUMMARY:Kingsnight
DESCRIPTION:
URL:https://wommels.nl/activiteit/kingsnight/
LOCATION:It Bynt\, Terp\, Wommels
CATEGORIES:Feest
END:VEVENT
BEGIN:VEVENT
DTSTART;TZID=Europe/Amsterdam:20260425T143000
DTEND;TZID=Europe/Amsterdam:20260425T163000
DTSTAMP:20260423T173000
CREATED:20260403T130156Z
LAST-MODIFIED:20260403T130156Z
UID:10452-1777127400-1777134600@wommels.nl
SUMMARY:Ynhel/beker
DESCRIPTION:
URL:https://wommels.nl/activiteit/ynhel-beker-20260425-1430/
CATEGORIES:vv-sds
END:VEVENT
BEGIN:VEVENT
DTSTART;TZID=Europe/Amsterdam:20260426T170000
DTEND;TZID=Europe/Amsterdam:20260426T233000
DTSTAMP:20260423T173000
CREATED:20260122T104416Z
LAST-MODIFIED:20260423T110219Z
UID:8850-1777222800-1777246200@wommels.nl
SUMMARY:Koningsnacht Live muziek Reade Hynder
DESCRIPTION:Live muziek met Gerrit Poortinga en Tim de Vries .
URL:https://wommels.nl/activiteit/amsterdamse-avond-koningsnacht/
LOCATION:It Reade Hynder\, Noard 6\, Wommels
CATEGORIES:Feest
END:VEVENT
BEGIN:VEVENT
DTSTART;VALUE=DATE:20260427
DTEND;VALUE=DATE:20260428
DTSTAMP:20260423T173000
CREATED:20260131T125514Z
LAST-MODIFIED:20260421T092927Z
UID:8949-1777248000-1777334399@wommels.nl
SUMMARY:Koningsdag
DESCRIPTION:Ook dit jaar vieren we Koningsdag weer samen in Wommels! Op maandag 27 april staat er opnieuw een gezellig Koningsdag-evenement op het programma. In de volgende editie van de dorpskrant maken we het volledige programma bekend. Goed nieuws: de organisatie is dit jaar versterkt met drie nieuwe commissieleden. Met frisse ideeën en veel enthousiasme wordt er hard gewerkt aan een mooie Koningsdag voor jong en oud. Voor nu alvast een kleine tip: bewaar spulletjes voor de vrijmarkt\, want die zal ook dit jaar niet ontbreken. \nVriendelijke groeten\, de Koningsdagcommissie:\nRegina Couperus\, Renate Heida\, Michelle Lankreijer\, Lisa Lageveen\, Petronella Tolsma\, Michelle Verbeek – Bruinsma en Neeltje Wariman – de Boer
URL:https://wommels.nl/activiteit/koningsdag/
CATEGORIES:Feest
END:VEVENT
BEGIN:VEVENT
DTSTART;TZID=Europe/Amsterdam:20260427T100000
DTEND;TZID=Europe/Amsterdam:20260427T120000
DTSTAMP:20260423T173000
CREATED:20260415T131728Z
LAST-MODIFIED:20260415T131728Z
UID:10535-1777284000-1777291200@wommels.nl
SUMMARY:Keningspartij
DESCRIPTION:
URL:https://wommels.nl/activiteit/keningspartij-20260427-1000/
CATEGORIES:Sport
END:VEVENT
BEGIN:VEVENT
DTSTART;TZID=Europe/Amsterdam:20260428T000000
DTEND;TZID=Europe/Amsterdam:20260428T235900
DTSTAMP:20260423T173000
CREATED:20260227T011636Z
LAST-MODIFIED:20260227T011636Z
UID:9741-1777334400-1777420740@wommels.nl
SUMMARY:Restafval
DESCRIPTION:Restafval
URL:https://wommels.nl/activiteit/restafval-20260428-0000/
CATEGORIES:Afvalkalender
END:VEVENT
BEGIN:VEVENT
DTSTART;TZID=Europe/Amsterdam:20260501T133000
DTEND;TZID=Europe/Amsterdam:20260501T153000
DTSTAMP:20260423T173000
CREATED:20260413T210218Z
LAST-MODIFIED:20260413T210218Z
UID:10528-1777642200-1777649400@wommels.nl
SUMMARY:Opening nieuw seizoen 1 mei
DESCRIPTION:Op 1 mei gaat ons museum weer open. We hebben een nieuwe expositie op de beneden verdieping: Molke en Meane door Francisca Snel.
URL:https://wommels.nl/activiteit/opening-nieuw-seizoen-1-mei-20260501-1330/
CATEGORIES:It Tsiispakûs
END:VEVENT
BEGIN:VEVENT
DTSTART;TZID=Europe/Amsterdam:20260502T000000
DTEND;TZID=Europe/Amsterdam:20260502T235900
DTSTAMP:20260423T173000
CREATED:20260303T011620Z
LAST-MODIFIED:20260303T011620Z
UID:9789-1777680000-1777766340@wommels.nl
SUMMARY:GFT
DESCRIPTION:GFT
URL:https://wommels.nl/activiteit/gft-20260502-0000/
CATEGORIES:Afvalkalender
END:VEVENT
BEGIN:VEVENT
DTSTART;TZID=Europe/Amsterdam:20260502T143000
DTEND;TZID=Europe/Amsterdam:20260502T163000
DTSTAMP:20260423T173000
CREATED:20260410T130148Z
LAST-MODIFIED:20260410T130148Z
UID:10511-1777732200-1777739400@wommels.nl
SUMMARY:Ynhel/beker
DESCRIPTION:
URL:https://wommels.nl/activiteit/ynhel-beker-20260502-1430/
CATEGORIES:vv-sds
END:VEVENT
BEGIN:VEVENT
DTSTART;TZID=Europe/Amsterdam:20260509T143000
DTEND;TZID=Europe/Amsterdam:20260509T163000
DTSTAMP:20260423T173000
CREATED:20260307T172509Z
LAST-MODIFIED:20260307T172509Z
UID:9826-1778337000-1778344200@wommels.nl
SUMMARY:SDS 1 – Oudehaske 1 mei nei de tiid SDS-slotfeest
DESCRIPTION:
URL:https://wommels.nl/activiteit/sds-1-oudehaske-1-mei-nei-de-tiid-sds-slotfeest-20260509-1430/
CATEGORIES:vv-sds
END:VEVENT
BEGIN:VEVENT
DTSTART;TZID=Europe/Amsterdam:20260510T120000
DTEND;TZID=Europe/Amsterdam:20260510T140000
DTSTAMP:20260423T173000
CREATED:20260406T090241Z
LAST-MODIFIED:20260406T090241Z
UID:10494-1778414400-1778421600@wommels.nl
SUMMARY:Moederdag Shared Lunch
DESCRIPTION:
URL:https://wommels.nl/activiteit/moederdag-shared-lunch-20260510-1200/
CATEGORIES:It Dielshûs
END:VEVENT
BEGIN:VEVENT
DTSTART;TZID=Europe/Amsterdam:20260512T000000
DTEND;TZID=Europe/Amsterdam:20260512T235900
DTSTAMP:20260423T173000
CREATED:20260313T011649Z
LAST-MODIFIED:20260313T011649Z
UID:10109-1778544000-1778630340@wommels.nl
SUMMARY:Restafval
DESCRIPTION:Restafval
URL:https://wommels.nl/activiteit/restafval-20260512-0000/
CATEGORIES:Afvalkalender
END:VEVENT
BEGIN:VEVENT
DTSTART;TZID=Europe/Amsterdam:20260514T110000
DTEND;TZID=Europe/Amsterdam:20260514T130000
DTSTAMP:20260423T173000
CREATED:20260415T131735Z
LAST-MODIFIED:20260415T131735Z
UID:10548-1778756400-1778763600@wommels.nl
SUMMARY:Franke Osinga partij
DESCRIPTION:
URL:https://wommels.nl/activiteit/franke-osinga-partij-20260514-1100/
CATEGORIES:Sport
END:VEVENT
BEGIN:VEVENT
DTSTART;TZID=Europe/Amsterdam:20260516T143000
DTEND;TZID=Europe/Amsterdam:20260516T163000
DTSTAMP:20260423T173000
CREATED:20260314T171704Z
LAST-MODIFIED:20260314T171704Z
UID:10173-1778941800-1778949000@wommels.nl
SUMMARY:Tollebeek 1 – SDS 1
DESCRIPTION:
URL:https://wommels.nl/activiteit/tollebeek-1-sds-1-20260516-1430/
CATEGORIES:vv-sds
END:VEVENT
BEGIN:VEVENT
DTSTART;TZID=Europe/Amsterdam:20260518T163000
DTEND;TZID=Europe/Amsterdam:20260518T183000
DTSTAMP:20260423T173000
CREATED:20260422T052547Z
LAST-MODIFIED:20260422T052547Z
UID:10689-1779121800-1779129000@wommels.nl
SUMMARY:Proeftraining foar famkes by SDS
DESCRIPTION:
URL:https://wommels.nl/activiteit/proeftraining-foar-famkes-by-sds-20260518-1630/
CATEGORIES:vv-sds
END:VEVENT
BEGIN:VEVENT
DTSTART;TZID=Europe/Amsterdam:20260519T000000
DTEND;TZID=Europe/Amsterdam:20260519T235900
DTSTAMP:20260423T173000
CREATED:20260320T010445Z
LAST-MODIFIED:20260320T010445Z
UID:10400-1779148800-1779235140@wommels.nl
SUMMARY:GFT
DESCRIPTION:GFT
URL:https://wommels.nl/activiteit/gft-20260519-0000/
CATEGORIES:Afvalkalender
END:VEVENT
BEGIN:VEVENT
DTSTART;TZID=Europe/Amsterdam:20260522T150000
DTEND;TZID=Europe/Amsterdam:20260522T170000
DTSTAMP:20260423T173000
CREATED:20260415T131728Z
LAST-MODIFIED:20260415T131728Z
UID:10536-1779462000-1779469200@wommels.nl
SUMMARY:Gezamenlijke wedstrijd met KF Easterein
DESCRIPTION:
URL:https://wommels.nl/activiteit/gezamenlijke-wedstrijd-met-kf-easterein-20260522-1500/
CATEGORIES:Sport
END:VEVENT
BEGIN:VEVENT
DTSTART;VALUE=DATE:20260525
DTEND;VALUE=DATE:20260526
DTSTAMP:20260423T173000
CREATED:20260122T105312Z
LAST-MODIFIED:20260122T105312Z
UID:8859-1779667200-1779753599@wommels.nl
SUMMARY:Pinkstermaandag met DJ Bas en Siep
DESCRIPTION:
URL:https://wommels.nl/activiteit/pinkstermaandag-met-dj-bas-en-siep/
LOCATION:It Reade Hynder\, Noard 6\, Wommels
CATEGORIES:Feest
END:VEVENT
BEGIN:VEVENT
DTSTART;TZID=Europe/Amsterdam:20260526T000000
DTEND;TZID=Europe/Amsterdam:20260526T235900
DTSTAMP:20260423T173000
CREATED:20260327T010133Z
LAST-MODIFIED:20260327T010133Z
UID:10413-1779753600-1779839940@wommels.nl
SUMMARY:Restafval
DESCRIPTION:Restafval
URL:https://wommels.nl/activiteit/restafval-20260526-0000/
CATEGORIES:Afvalkalender
END:VEVENT
BEGIN:VEVENT
DTSTART;VALUE=DATE:20260528
DTEND;VALUE=DATE:20260529
DTSTAMP:20260423T173000
CREATED:20260219T131240Z
LAST-MODIFIED:20260219T131240Z
UID:9270-1779926400-1780012799@wommels.nl
SUMMARY:Food la Route Greidhoeke
DESCRIPTION:Op donderdag 28 mei vindt voor het eerst Food la Route plaats in de Greidhoeke. Tijdens deze speciale culinaire fietsroute krijgen deelnemers in één avond vier gangen bij drie verschillende restaurants.  Bij elke eigen gang wordt een bijpassende drank geserveerd. Een ontspannen en smaakvolle manier om uit eten te gaan\, gewoon in eigen regio. \nDe deelnemende restaurants zijn it Reade Hynder in Wommels\, Cafe Bergsma Easterein en Herbergh het Wapen van Friesland in Easterlittens. De avond start in één van deze locaties\, waarna deelnemers van gang naar gang fietsen. Waar men het voorgerecht krijgt\, daar eindigt de route ook weer met het dessert. Zo ontstaat een gezellige route door De Greidhoeke\, waarbij ontmoeten\, genieten en ontdekken centraal staan. \nFood la Route staat bekend om de ongedwongen sfeer. Gasten zijn op pad met hun partner\, vrienden of familie en delen samen de beleving. In elk restaurant worden zij gastvrij ontvangen en verrast met een gerecht dat speciaal voor deze avond is samengesteld door de chef. Het tempo is relaxed en de avond voelt als een complete uitgaansbeleving\, met aandacht voor kwaliteit en gezelligheid. \nDeelname kost €79\,90 per persoon. Hiervoor krijgen deelnemers een viergangendiner\, inclusief drie bijpassende wijnen en koffie of thee bij het nagerecht. \nDe belangstelling is groot en het aantal plaatsen beperkt. Aanmelden kan via https://foodlaroute.nl/nl/event/greidhoeke/28-05-2026.
URL:https://wommels.nl/activiteit/food-la-route-greidhoeke/
CATEGORIES:Algemeen
END:VEVENT
BEGIN:VEVENT
DTSTART;TZID=Europe/Amsterdam:20260602T000000
DTEND;TZID=Europe/Amsterdam:20260602T235900
DTSTAMP:20260423T173000
CREATED:20260403T010322Z
LAST-MODIFIED:20260403T010322Z
UID:10443-1780358400-1780444740@wommels.nl
SUMMARY:GFT
DESCRIPTION:GFT
URL:https://wommels.nl/activiteit/gft-20260602-0000/
CATEGORIES:Afvalkalender
END:VEVENT
BEGIN:VEVENT
DTSTART;TZID=Europe/Amsterdam:20260604T000000
DTEND;TZID=Europe/Amsterdam:20260604T235900
DTSTAMP:20260423T173000
CREATED:20260405T010225Z
LAST-MODIFIED:20260405T010225Z
UID:10490-1780531200-1780617540@wommels.nl
SUMMARY:Papier en karton
DESCRIPTION:Papier en karton
URL:https://wommels.nl/activiteit/papier-en-karton-20260604-0000/
CATEGORIES:Afvalkalender
END:VEVENT
BEGIN:VEVENT
DTSTART;TZID=Europe/Amsterdam:20260606T200000
DTEND;TZID=Europe/Amsterdam:20260606T220000
DTSTAMP:20260423T173000
CREATED:20260415T131735Z
LAST-MODIFIED:20260415T131735Z
UID:10549-1780776000-1780783200@wommels.nl
SUMMARY:Reade Hynder strjittekeatsen
DESCRIPTION:
URL:https://wommels.nl/activiteit/reade-hynder-strjittekeatsen-20260606-2000/
CATEGORIES:Sport
END:VEVENT
BEGIN:VEVENT
DTSTART;TZID=Europe/Amsterdam:20260608T153000
DTEND;TZID=Europe/Amsterdam:20260608T170000
DTSTAMP:20260423T173000
CREATED:20251204T103357Z
LAST-MODIFIED:20251204T103357Z
UID:8616-1780932600-1780938000@wommels.nl
SUMMARY:Beweech Wommels
DESCRIPTION:Elke week wandelen met Jan Mes. Meedoen? Bel Jan – 06 51342732.
URL:https://wommels.nl/activiteit/beweech-wommels-20260608-1530/
END:VEVENT
BEGIN:VEVENT
DTSTART;TZID=Europe/Amsterdam:20260609T000000
DTEND;TZID=Europe/Amsterdam:20260609T235900
DTSTAMP:20260423T173000
CREATED:20260410T010148Z
LAST-MODIFIED:20260410T010148Z
UID:10502-1780963200-1781049540@wommels.nl
SUMMARY:Restafval
DESCRIPTION:Restafval
URL:https://wommels.nl/activiteit/restafval-20260609-0000/
CATEGORIES:Afvalkalender
END:VEVENT
BEGIN:VEVENT
DTSTART;TZID=Europe/Amsterdam:20260611T190000
DTEND;TZID=Europe/Amsterdam:20260611T210000
DTSTAMP:20260423T173000
CREATED:20260415T132853Z
LAST-MODIFIED:20260415T132853Z
UID:10564-1781204400-1781211600@wommels.nl
SUMMARY:Competitie
DESCRIPTION:
URL:https://wommels.nl/activiteit/competitie-20260611-1900/
CATEGORIES:Sport
END:VEVENT
BEGIN:VEVENT
DTSTART;TZID=Europe/Amsterdam:20260612T200000
DTEND;TZID=Europe/Amsterdam:20260613T010000
DTSTAMP:20260423T173000
CREATED:20260304T072621Z
LAST-MODIFIED:20260304T072621Z
UID:9790-1781294400-1781312400@wommels.nl
SUMMARY:Slachtepop
DESCRIPTION:Hâld it frij & wês der by!
URL:https://wommels.nl/activiteit/slachtepop/
CATEGORIES:Feest
END:VEVENT
BEGIN:VEVENT
DTSTART;TZID=Europe/Amsterdam:20260613T080000
DTEND;TZID=Europe/Amsterdam:20260614T010000
DTSTAMP:20260423T173000
CREATED:20260304T072709Z
LAST-MODIFIED:20260304T072709Z
UID:9792-1781337600-1781398800@wommels.nl
SUMMARY:Slachtepop
DESCRIPTION:Hâld it frij & wês der by!
URL:https://wommels.nl/activiteit/slachtepop-2/
CATEGORIES:Feest
END:VEVENT
BEGIN:VEVENT
DTSTART;TZID=Europe/Amsterdam:20260613T100000
DTEND;TZID=Europe/Amsterdam:20260613T120000
DTSTAMP:20260423T173000
CREATED:20260415T131729Z
LAST-MODIFIED:20260415T131729Z
UID:10537-1781344800-1781352000@wommels.nl
SUMMARY:Jeugdwedstrijd
DESCRIPTION:
URL:https://wommels.nl/activiteit/jeugdwedstrijd-20260613-1000/
CATEGORIES:Sport
END:VEVENT
END:VCALENDAR